BEGIN:VCALENDAR
VERSION:2.0
CALSCALE:GREGORIAN
PRODID:-//WordPress//RSVPMaker//EN
METHOD:REQUEST
BEGIN:VEVENT
DTSTAMP:20260422T082745Z
UID:E7D4C8D4FE04D9B4539A075D809C6D01@rsvpmaker.com
SEQUENCE:0
STATUS:CONFIRMED
DTSTART:20190921T150000Z
DTEND:20190921T160000Z
LOCATION:See\: https\://www.pause66.com/rsvpmaker/peace-in-the-park/
SUMMARY:Peace in the Park
DESCRIPTION:Event info\: https\://www.pause66.com/rsvpmaker/peace-in-t
 he-park/
BEGIN:VALARM
TRIGGER:-PT15M
ACTION:DISPLAY
END:VALARM
END:VEVENT
END:VCALENDAR